Workbook

Sheet Cash Book 2022-23
A1: Longstowe Parish Council: Cash Book for year 1 April 2022 to 31 March 2023
G2: ––––––– INCOME ––––––– | K2: –––––––––––––––––––––– EXPENDITURE ––––––––––––––––––––––
H3: Other | I3: Vat | J3: Deposit | K3: Clerk's | L3: Mileage | N3: Misc | R3: Village
A4: DATE | B4: DESCRIPTION | C4: CHEQUE | D4: RECPTS. | E4: PMENTS. | F4: BANK | G4: PRECEPT | H4: Income | I4: Refund | J4: Acc | K4: Salary | L4: + Exps | M4: Training* | N4: Admin | O4: Fees | P4: Insurance | Q4: Skylark | R4: Maintenance | S4: VAT | T4: Total
A7: 44652 | B7: Carried forward | F7: 10531.98
A8: 44655 | B8: Victoire Press Ltd: Skylark March 2022 | E8: 96 | F8: =F7+D8-E8 -> 10435.98 | Q8: 96 | T8: =SUM(G8:S8) -> 96
A9: 44672 | B9: Eyelid Productions: Website maintenance | E9: 170 | F9: =F8+D9-E9 -> 10265.98 | O9: =E9 -> 170 | T9: =SUM(G9:S9) -> 170
A10: 44672 | B10: South Cambs DC: Direct Credit: Precept 22-23A | C10: DC | D10: 2887.5 | F10: =F9+D10-E10 -> 13153.48 | G10: =-D10 -> -2887.5 | T10: =SUM(G10:S10) -> -2887.5
A11: 44672 | B11: LPC Village Hall hire 2021-22 | E11: 30 | F11: =F10+D11-E11 -> 13123.48 | O11: 30 | T11: 30
A12: 44684 | B12: Opus Energy Corpor (March) | C12: DD | E12: 14.49 | F12: =F11+D12-E12 -> 13108.99 | R12: =E12-S12 -> 13.8 | S12: =0.23+0.46 -> 0.69 | T12: =SUM(G12:S12) -> 14.49
A13: 44700 | B13: Mr A. Church, grass-cutting 2022 | E13: 150 | F13: =F12+D13-E13 -> 12958.99 | R13: =E13 -> 150 | T13: =SUM(G13:S13) -> 150
A14: 44701 | B14: Natl Lottery Community Fund grant - defibrillator | C14: DC | D14: 1950 | F14: =F13+D14-E14 -> 14908.99 | H14: -1950 | T14: -1950
A15: 44725 | B15: Business Services at CAS: Community Action Suffolk ACRE: Parish Protect 22-23 | E15: 349.38 | F15: =F14+D15-E15 -> 14559.61 | P15: =E15 -> 349.38 | T15: =SUM(G15:S15) -> 349.38
A16: 44708 | B16: Opus Energy Corpor (April) | C16: DD | E16: 13.45 | F16: =F15+D16-E16 -> 14546.16 | R16: =E16-S16 -> 12.81 | S16: =0.22+0.42 -> 0.64 | T16: =SUM(G16:S16) -> 13.45
A17: 44728 | B17: Clerk: net pay (mid-Mar - mid-Jun 2022) | E17: 555.8 | F17: =F16+D17-E17 -> 13990.36 | K17: 555.8 | T17: =SUM(G17:S17) -> 555.8
A18: 44728 | B18: HMRC: Income Tax Clerk: on salary + expenses (mid-Mar - mid-Jun 2022) | E18: 138.8 | F18: =F17+D18-E18 -> 13851.56 | K18: 138.8 | T18: =SUM(G18:S18) -> 138.8
A19: 44739 | B19: Opus Energy Corpor (May) | C19: DD | E19: 13.62 | F19: =F18+D19-E19 -> 13837.94 | R19: =E19-S19 -> 12.97 | S19: =0.23+0.42 -> 0.65 | T19: =SUM(G19:S19) -> 13.62
A20: 44763 | B20: Victoire Press Ltd: Skylark July 2022 | E20: 120 | F20: =F19+D20-E20 -> 13717.94 | Q20: 120 | T20: =SUM(G20:S20) -> 120
A21: 44767 | B21: Opus Energy Corpor (June) | C21: DD | E21: 12.99 | F21: =F20+D21-E21 -> 13704.95 | R21: =E21-S21 -> 12.37 | S21: =0.22+0.4 -> 0.62 | T21: =SUM(G21:S21) -> 12.99
A22: 44799 | B22: Opus Energy Corpor (July) | C22: DD | E22: 13.28 | F22: =F21+D22-E22 -> 13691.67 | R22: =E22-S22 -> 12.65 | S22: =0.23+0.4 -> 0.63 | T22: =SUM(G22:S22) -> 13.28
A23: 44812 | B23: South Cambs DC: Direct Credit: Community Chest Grant | C23: DC | D23: 314 | F23: =F22+D23-E23 -> 14005.67 | H23: -314 | T23: -314
A24: 44816 | B24: Longstowe Village Hall: Playground Insurance reimbursement (2021-2022) | C24: DC | D24: 169.44 | F24: =F23+D24-E24 -> 14175.11 | H24: =-D24 -> -169.44 | T24: =SUM(G24:S24) -> -169.44
A25: 44825 | B25: South Cambs DC: Direct Credit: Precept 22-23 B | C25: DC | D25: 2887.5 | F25: =F24+D25-E25 -> 17062.61 | G25: =-D25 -> -2887.5 | T25: =SUM(G25:S25) -> -2887.5
A26: 44830 | B26: Opus Energy Corpor (August) | C26: DD | E26: 13.26 | F26: =F25+D26-E26 -> 17049.35 | R26: =E26-S26 -> 12.63 | S26: =0.23+0.4 -> 0.63 | T26: =SUM(G26:S26) -> 13.26
A27: 44832 | B27: Victoire Press Ltd: Skylark, Sept 2021 | E27: 96 | F27: =F26+D27-E27 -> 16953.35 | Q27: 96 | T27: =SUM(G27:S27) -> 96
A28: 44832 | B28: HMRC: Income Tax (mid-June - mid-Sept. 2022) | E28: 120.2 | F28: =F27+D28-E28 -> 16833.15 | K28: 120.2 | T28: =SUM(G28:S28) -> 120.2
A29: 44832 | B29: Clerk: salary (mid-June - mid-Sept. 2022) | E29: 480.68 | F29: =F28+D29-E29 -> 16352.47 | K29: 480.68 | T29: =SUM(G29:S29) -> 480.68
A30: 44832 | B30: Clerk: expenses (mid-June - mid-Sept. 2022) | E30: 195.93 | F30: =F29+D30-E30 -> 16156.54 | L30: 195.93 | T30: =SUM(G30:S30) -> 195.93
A31: 44832 | B31: South Cambs DC - uncontested election services | E31: 75 | F31: =F30+D31-E31 -> 16081.54 | O31: 75 | T31: 75
A32: 44854 | B32: The Info Commissioner: Data Protection renewal | C32: DD | E32: 35 | F32: =F31+D32-E32 -> 16046.54 | O32: 35 | T32: =SUM(G32:S32) -> 35
A33: 44865 | B33: Opus Energy Corpor (September) | C33: DD | E33: =8.58+4.65 -> 13.23 | F33: =F32+D33-E33 -> 16033.31 | R33: =E33-S33 -> 12.6 | S33: =0.22+0.41 -> 0.63 | T33: =SUM(G33:S33) -> 13.23
A34: 44881 | B34: Openreach: Wayleave agreement | C34: DC | D34: 10 | F34: =F33+D34-E34 -> 16043.31 | H34: -10 | T34: =SUM(G34:S34) -> -10
A35: =+A37 -> 44910 | B35: O.C.Electical (fitting Defibrillator) | E35: 304.76 | F35: =F34+D35-E35 -> 15738.55 | R35: 304.76 | T35: 304.76
A36: 44897 | B36: Opus Energy Corpor (October) | C36: DD | E36: =4.8+9.28 -> 14.08 | F36: =F35+D36-E36 -> 15724.47 | R36: =E36-S36 -> 13.41 | S36: =0.23+0.44 -> 0.67 | T36: =SUM(G36:S36) -> 14.08
A37: 44910 | B37: Victoire Press Ltd: Skylark Dec 2021 | E37: 105 | F37: =F36+D37-E37 -> 15619.47 | Q37: =E37 -> 105 | T37: =SUM(G37:S37) -> 105
A38: 44910 | B38: HMRC Income Tax (mid-Sept - mid-Dec) | E38: 178.6 | F38: =F37+D38-E38 -> 15440.87 | K38: 178.6 | T38: =SUM(G38:S38) -> 178.6
A39: 44910 | B39: Clerk: salary + expenses (mid-Sept - mid-Dec 2022) | E39: 826.97 | F39: =F38+D39-E39 -> 14613.9 | K39: 714.28 | L39: 112.69 | T39: =SUM(G39:S39) -> 826.97
A40: 44925 | B40: Opus Energy Corpor (November) | C40: DD | E40: 14.22 | F40: =F39+D40-E40 -> 14599.68 | R40: =E40-S40 -> 13.54 | S40: =0.22+0.46 -> 0.68 | T40: =SUM(G40:S40) -> 14.22
A41: 44945 | B41: Longstowe Village Hall: Playground Insurance reimbursement (2022-2023) | D41: 174.69 | F41: =F40+D41-E41 -> 14774.37 | H41: -174.69 | T41: -174.69
A42: 44979 | B42: Village Hall Hire - Apr 2022 - Mar 2023 - LPC meetings | E42: 152 | F42: =F41+D42-E42 -> 14622.37 | O42: 152 | T42: 152
...

Sheet Assets
A3: Year ended 31 March 2023
A5: Assets
B6: No assets were purchased or disposed of during the year | G6: No assets were purchased or disposed of during the year
C7: Date of purchase | D7: Original Cost
B8: Assets held were: | D8: £
B9: Play Equipment – Village Hall | C9: 2010 | D9: 28820
B10: Bus Shelter on the High Street | D10: 4521
B11: Bus Shelter on the A1198 | C11: 2011 | D11: 815
B12: Village Sign | C12: 1999 | D12: 3102
B13: Two Notice Boards | D13: 1417
B14: Village Seat | D14: 561
B15: Two new Notice Boards | C15: 2015 | D15: 1011.6
B16: Computer | C16: 2019 | D16: 316.63
B17: Scanner / Printer | C17: 2019 | D17: 45.82
B19: Total | E19: =SUM(D9:D17) -> 40610.05
A21: Borrowings
B22: There are no loans outstanding
A24: Leases
B25: The Council has no leases
A27: Debts outstanding
B28: At 31 March 2023 debts outstanding to the council were | D28: 0 | H28: Longstowe Village Hall: Playground Insurance reimbursement (2021-2022) | J28: 169.44
B29: VAT reclaimable for the period | D29: ='Cash Book 2022-23'!#REF! -> #REF!
A31: Tenancies
B32: The Council has no tenancy agreements
A34: Section 137 Payments
B35: The Council made no payments under S.137 | D35: Nil
A37: Agency Work
B38: The Council undertook no agency work on behalf of authorities
A40: Advertising and Publicity Costs | D40: Nil
A43: Pension Contributions | D43: Nil
A46: Signed: | C46: Signed:
A48: (Responsible Finance Officer) | C48: (Chairman)
A50: Approved by Council:
A52: Date: | C52: Minute:

Sheet Bank Reconciliation
A1: Longstowe Parish Council: Bank Reconciliation
A3: Year ended 31 March 2023
A5: Prepared by Sharon Brown, Clerk & RFO
A6: Date: April 2023
A8: Balance per bank statements as at 31 March 2023 | C8: £ | D8: £
B9: Current account | C9: 13736.33
B10: Deposit account | C10: 4724.63
D11: =C9+C10 -> 18460.96
A12: Petty cash float: no petty cash held | D12: 0
A14: Less: unpresented cheques at 31 March 2023 | D14: 0
A17: Add: any un-banked cash at 31 March 2023 | C17: 0 | D17: 0
A19: Net balances as at 31 March 2023 | D19: =SUM(D9:D18) -> 18460.96
A21: The net balances reconcile to the Cash Book (receipts and payments account) for the year, as follows:
A23: CASH BOOK:
A24: Opening Balances 1 April 2022
B25: Current account | C25: ='Cash Book 2022-23'!F7 -> 10531.98
B26: Deposit account | C26: ='Cash Book 2022-23'!F53 -> 4714.33
D27: =C25+C26 -> 15246.31
A29: Add: Receipts in the year | D29: ='Cash Book 2022-23'!D58 -> 8403.43
A30: Less: Payments in the year | D30: =-'Cash Book 2022-23'!E58 -> -5188.78
A32: Closing balance per cash book as at 31 March 2023 | D32: =SUM(D24:D30) -> 18460.96
A36: Signed: | B36: Signed:
A38: (Responsible Finance Officer) | B38: (Chairman)
A40: Approved by Council:
A42: Date: | B42: Minute:
A45: Closing balance per cash book [receipts and payments book] as at 31 March 2023 (must equal net balances above)

Sheet Variances
A1: Explanation of variances – pro forma
A2: Name of smaller authority: | C2: Longstowe Parish Council
A3: County area (local councils and parish meetings only): | C3: South Cambridgeshire
A4: Insert figures from Section 2 of the AGAR in all Blue highlighted boxes
A5: Next, please provide full explanations, including numerical values, for the following that will be flagged in the green boxes where relevant: • variances of more than 15% between totals for individual boxes (except variances of less than £200); • New from 2020/21: variances of £100,000 or more require explanation regardless of the % variation year on year; • a breakdown of approved reserves on the next tab if the total reserves (Box 7) figure is more than twice the annual precept/rates & levies value (Box 2). | Q5: Do you have a new version of this in the pack?
D7: 2021/22 | F7: 2022/23 | G7: Variance | H7: Variance | L7: Explanation Required? | M7: Automatic responses trigger below based on figures input, DO NOT OVERWRITE THESE BOXES | N7: Explanation from smaller authority (must include narrative and supporting figures)
D8: £ | F8: £ | G8: £ | H8: %
A10: 1 Balances Brought Forward | D10: 16316 | F10: ='Cash Book 2022-23'!F7+'Cash Book 2022-23'!F53 -> 15246.31 | M10: =IF(F10=D22,"Explanation of % variance from PY opening balance not required - Balance brought forward agrees","Explanation of % variance from PY opening balance not required - Balance brought forward does not agree, query this") -> Explanation of % variance from PY opening balance not required - Balance brought forward does not agree, query this
A12: 2 Precept or Rates and Levies | D12: 5250 | F12: =-'Cash Book 2022-23'!G58 -> 5775 | G12: =F12-D12 -> 525 | H12: =IF((D12>F12),(D12-F12)/D12,IF(D12<F12,-(D12-F12)/D12,IF(D12=F12,0))) -> 0.1 | I12: =IF(D12-F12<200,0,IF(D12-F12>200,1,IF(D12-F12=200,1))) -> 0 | J12: =IF(F12-D12<200,0,IF(F12-D12>200,1,IF(F12-D12=200,1))) -> 1 | K12: =IF(H12<0.15,0,IF(H12>0.15,1,IF(H12=0.15,1))) -> 0 | L12: =IF((H12<15%)*AND(G12<100000), "NO","YES") -> NO | M12: =IF((L12="YES")*AND(I12+J12<1),"Explanation not required, difference less than £200"," ")
A14: 3 Total Other Receipts | D14: 386 | F14: =-('Cash Book 2022-23'!H58) -> 2628.43 | G14: =F14-D14 -> 2242.43 | H14: =IF((D14>F14),(D14-F14)/D14,IF(D14<F14,-(D14-F14)/D14,IF(D14=F14,0))) -> 5.8094041 | I14: =IF(D14-F14<200,0,IF(D14-F14>200,1,IF(D14-F14=200,1))) -> 0 | J14: =IF(F14-D14<200,0,IF(F14-D14>200,1,IF(F14-D14=200,1))) -> 1 | K14: =IF(H14<0.15,0,IF(H14>0.15,1,IF(H14=0.15,1))) -> 1 | L14: =IF((H14<15%)*AND(G14<100000), "NO","YES") -> YES | N14: 2022/23: Lottery Fund grant £1950.00, Community Chest grant £314.00, Wayleave £10, Playground Insurance reimbursement £169.44 + £174.69. Payment for defibrillator not yet made/awaiting invoice.
A16: 4 Staff Costs | D16: =4658 -> 4658 | F16: ='Cash Book 2022-23'!K58 -> 2776.99 | G16: =F16-D16 -> -1881.01 | H16: =IF((D16>F16),(D16-F16)/D16,IF(D16<F16,-(D16-F16)/D16,IF(D16=F16,0))) -> 0.40382353 | I16: =IF(D16-F16<200,0,IF(D16-F16>200,1,IF(D16-F16=200,1))) -> 1 | J16: =IF(F16-D16<200,0,IF(F16-D16>200,1,IF(F16-D16=200,1))) -> 0 | K16: =IF(H16<0.15,0,IF(H16>0.15,1,IF(H16=0.15,1))) -> 1 | L16: =IF((H16<15%)*AND(G16<100000), "NO","YES") -> YES | M16: =IF((L16="YES")*AND(I16+J16<1),"Explanation not required, difference less than £200"," ") | N16: 2022/23: Clerk paid up-to-date.
A18: 5 Loan Interest/Capital Repayment | D18: 0 | F18: 0 | G18: =F18-D18 -> 0 | H18: =IF((D18>F18),(D18-F18)/D18,IF(D18<F18,-(D18-F18)/D18,IF(D18=F18,0))) -> 0 | I18: =IF(D18-F18<200,0,IF(D18-F18>200,1,IF(D18-F18=200,1))) -> 0 | J18: =IF(F18-D18<200,0,IF(F18-D18>200,1,IF(F18-D18=200,1))) -> 0 | K18: =IF(H18<0.15,0,IF(H18>0.15,1,IF(H18=0.15,1))) -> 0 | L18: =IF((H18<15%)*AND(G18<100000), "NO","YES") -> NO | M18: =IF((L18="YES")*AND(I18+J18<1),"Explanation not required, difference less than £200"," ")
A20: 6 All Other Payments | D20: 2048 | F20: ='Cash Book 2022-23'!L58+'Cash Book 2022-23'!M58+'Cash Book 2022-23'!N58+'Cash Book 2022-23'!O58+'Cash Book 2022-23'!P58+'Cash Book 2022-23'!Q58+'Cash Book 2022-23'!R58+'Cash Book 2022-23'!S58 -> 2411.79 | G20: =F20-D20 -> 363.79 | H20: =IF((D20>F20),(D20-F20)/D20,IF(D20<F20,-(D20-F20)/D20,IF(D20=F20,0))) -> 0.17763184 | I20: =IF(D20-F20<200,0,IF(D20-F20>200,1,IF(D20-F20=200,1))) -> 0 | J20: =IF(F20-D20<200,0,IF(F20-D20>200,1,IF(F20-D20=200,1))) -> 1 | K20: =IF(H20<0.15,0,IF(H20>0.15,1,IF(H20=0.15,1))) -> 1 | L20: =IF((H20<15%)*AND(G20<100000), "NO","YES") -> YES | N20: 2022/23: low energy street lights fitted. defibrillator fiited at village hall, uncontested elections.
A22: 7 Balances Carried Forward | D22: =D10+D12+D14-D16-D18-D20 -> 15246 | F22: =F10+F12+F14-F16-F18-F20 -> 18460.96 | M22: VARIANCE EXPLANATION NOT REQUIRED
L23: =IF(F22>(2*F12),"YES","NO") -> YES
A25: 8 Total Cash and Short Term Investments | D25: 15246 | F25: ='Cash Book 2022-23'!F51+'Cash Book 2022-23'!F57 -> 18460.96 | M25: VARIANCE EXPLANATION NOT REQUIRED
A27: 9 Total Fixed Assets plus Other Long Term Investments and Assets | D27: 40610 | F27: =Assets!E19 -> 40610.05 | G27: =F27-D27 -> 0.05 | H27: =IF((D27>F27),(D27-F27)/D27,IF(D27<F27,-(D27-F27)/D27,IF(D27=F27,0))) -> 1.2312238e-06 | I27: =IF(D27-F27<200,0,IF(D27-F27>200,1,IF(D27-F27=200,1))) -> 0 | J27: =IF(F27-D27<200,0,IF(F27-D27>200,1,IF(F27-D27=200,1))) -> 0 | K27: =IF(H27<0.15,0,IF(H27>0.15,1,IF(H27=0.15,1))) -> 0 | L27: =IF((H27<15%)*AND(G27<100000), "NO","YES") -> NO | M27: =IF((L27="YES")*AND(I27+J27<1),"Explanation not required, difference less than £200"," ")
A29: 10 Total Borrowings | D29: 0 | F29: 0 | G29: =F29-D29 -> 0 | H29: =IF((D29>F29),(D29-F29)/D29,IF(D29<F29,-(D29-F29)/D29,IF(D29=F29,0))) -> 0 | I29: =IF(D29-F29<100,0,IF(D29-F29>100,1,IF(D29-F29=100,1))) -> 0 | J29: =IF(F29-D29<100,0,IF(F29-D29>100,1,IF(F29-D29=100,1))) -> 0 | K29: =IF(H29<0.15,0,IF(H29>0.15,1,IF(H29=0.15,1))) -> 0 | L29: =IF((H29<15%)*AND(G29<100000), "NO","YES") -> NO | M29: =IF((L29="YES")*AND(I29+J29<1),"Explanation not required, difference less than £200"," ")
C31: Rounding errors of up to £2 are tolerable
C33: Variances of £200 or less are tolerable
C35: BOX 10 VARIANCE EXPLANATION NOT REQUIRED IF CHANGE CAN BE EXPLAINED BY BOX 5 (CAPITAL PLUS INTEREST PAYMENT)
A37: Signed: | F37: Signed:
A38: (Responsible Finance Officer) | F38: (Chairman)
A40: Approved by Council: | C40: Date: | F40: Minute:

Sheet Variances explained
A1: Explanation for ‘high’ reserves | F1: April 2023
A2: (Please complete the highlighted boxes.)
A3: Box 7 is more than twice Box 2 because the authority held the following breakdown of reserves at the year end:
D5: £ | E5: £ | F5: £
A6: Earmarked reserves:
B7: Reserve 1 | D7: 8334 | G7: Endowment Fund (from the former Reading Room Trust)
B8: Reserve 2 | D8: 930 | G8: Speed Limit Fund
B9: Reserve 3 | D9: 2245 | G9: S106 (open space)
B10: Reserve 4 | D10: 371 | G10: S106 (community space)
E12: =SUM(D7:D11) -> 11880
A14: General reserve | D14: ='Cash Book 2022-23'!F58-'Variances explained'!E12 -> 6580.96
E15: =D14 -> 6580.96
A16: Total reserves (must agree to Box 7) | F16: =E12+E15 -> 18460.96
A20: Signed: | F20: Signed:
A21: (Responsible Finance Officer) | F21: (Chairman)
A24: Approved by Council: | C24: Date: | F24: Minute:
