Workbook

Sheet Cash Book 2020-21
A1: Longstowe Parish Council: Cash Book for year 1 April 2020 to 31 March 2021
G2: ––––––– INCOME ––––––– | K2: –––––––––––––––––––––– EXPENDITURE ––––––––––––––––––––––
H3: Other | I3: Vat | J3: Deposit | K3: Clerk's | L3: Mileage | N3: Misc | R3: Village
A4: DATE | B4: DESCRIPTION | C4: CHEQUE | D4: RECPTS. | E4: PMENTS. | F4: BANK | G4: PRECEPT | H4: Income | I4: Refund | J4: Acc | K4: Salary | L4: + Exps | M4: Training* | N4: Admin | O4: Fees | P4: Insurance | Q4: Skylark | R4: Maintenance | S4: VAT | T4: Total | U4: M'ed | V4: Notes:
A5: 43922 | B5: Carried forward | F5: 15236.63 | S5: 85.83
B6: Unpresented cheques from 2019–2020
A7: 43913 | B7: CCC Street Lighting 01/10/18 to 30/09/19 | C7: 100743 | E7: 474.17 | F7: =F5-E7 -> 14762.46 | U7: 7b | V7: cleared
A8: 43913 | B8: Victoire Press Ltd: Skylark April 2020 | C8: 100744 | E8: 69 | F8: =F7-E8 -> 14693.46 | U8: 7c | V8: cleared
A9: 43921 | B9: HMRC: Income tax for Sharon | C9: 100746 | E9: 314.6 | F9: =F8-E9 -> 14378.86 | U9: 7d | V9: cleared
A10: 43921 | B10: HMRC: Income tax for Bobbie | C10: 100746 | E10: 136.8 | F10: =F9-E10 -> 14242.06 | U10: 7e | V10: cleared
A11: 43921 | B11: Sharon Brown: salary + expenses | C11: 100747 | E11: 1387.8 | F11: =F10-E11 -> 12854.26 | U11: 7d | V11: cleared
A12: 43921 | B12: Bobbie Coe: salary + expenses (A/Clerk) | C12: 100748 | E12: 672.82 | F12: =F11-E12 -> 12181.44 | U12: 7e | V12: cleared
A13: 43739 | B13: ebuyer.com (via Barbara Heaton-Smith) Computer and Scanner (grant) | C13: 100749 | E13: 434.95 | F13: =F12-E13 -> 11746.49 | U13: 7a | V13: cleared
A15: 43922 | B15: Carried forward | F15: 11746.49 | S15: 85.83
A16: 43922 | B16: Eyelid Productions: Website maintenance | C16: 100745 | E16: 170 | F16: =F15+D16-E16 -> 11576.49 | O16: =E16 -> 170 | T16: =SUM(G16:S16) -> 170 | U16: 7f
A17: 43965 | B17: South Cambs DC: Direct Credit: Precept 20–21 A | C17: DC | D17: 1312.5 | F17: =F16+D17-E17 -> 12888.99 | G17: =-D17 -> -1312.5 | T17: =SUM(G17:S17) -> -1312.5 | U17: 7k
A18: 43965 | B18: South Cambs DC: Direct Credit: Precept 20–21 B | C18: DC | D18: 1312.5 | F18: =F17+D18-E18 -> 14201.49 | G18: =-D18 -> -1312.5 | T18: =SUM(G18:S18) -> -1312.5 | U18: 95b
A19: 43972 | B19: CAPALC affiliation fee + GDP (£50) | C19: 100751 | E19: =157.22+50 -> 207.22 | F19: =F18+D19-E19 -> 13994.27 | O19: =E19 -> 207.22 | T19: =SUM(G19:S19) -> 207.22 | U19: 7l
A20: 43972 | B20: Mr A. Church, grass-cutting | C20: 100752 | E20: 100 | F20: =F19+D20-E20 -> 13894.27 | R20: =E20 -> 100 | T20: =SUM(G20:S20) -> 100 | U20: 7h
A21: 43972 | B21: Eyelid Productions: Accessibility Regulations webpage update | C21: 100753 | E21: 50 | F21: =F20+D21-E21 -> 13844.27 | O21: =E21 -> 50 | T21: =SUM(G21:S21) -> 50 | U21: 7i
A22: 43972 | B22: Business Services at CAS: Community Action Suffolk ACRE: Parish Protect 20–21 | C22: 100756 | E22: 338.88 | F22: =F21+D22-E22 -> 13505.39 | P22: =E22 -> 338.88 | T22: =SUM(G22:S22) -> 338.88 | U22: 7m | V22: half to be reclaimed from VH | W22: =E22/2 -> 169.44
A23: 43972 | B23: Village Hall: rent of committee room 2019–2020 | C23: 100761 | E23: 144 | F23: =F22+D23-E23 -> 13361.39 | O23: =E23 -> 144 | T23: =SUM(G23:S23) -> 144 | U23: 7g | V23: 11 meetings +
A24: 44000 | B24: Opus Energy Corpor | C24: DD | E24: =30.28+44.47 -> 74.75 | F24: =F23+D24-E24 -> 13286.64 | R24: =E24-S24 -> 71.19 | S24: =1.44+2.12 -> 3.56 | T24: =SUM(G24:S24) -> 74.75 | U24: 95d
A25: 44025 | B25: Opus Energy Corpor | C25: DD | E25: =49.82+32.93 -> 82.75 | F25: =F24+D25-E25 -> 13203.89 | R25: =E25-S25 -> 78.81 | S25: =2.37+1.57 -> 3.94 | T25: =SUM(G25:S25) -> 82.75 | U25: 95e
A26: 44028 | B26: Victoire Press Ltd: Skylark July 2020 | C26: 100755 | E26: 69 | F26: =F25+D26-E26 -> 13134.89 | Q26: =E26 -> 69 | T26: =SUM(G26:S26) -> 69 | U26: 29a
A27: 44028 | B27: CCC Street Lighting 30/09/19–05/05/20 | C27: 100757 | E27: 322.99 | F27: =F26+D27-E27 -> 12811.9 | R27: =E27 -> 322.99 | T27: =SUM(G27:S27) -> 322.99 | U27: 29b, 40a
A28: 44075 | B28: Opus Energy Corpor | C28: DD | E28: =51.47+33.92 -> 85.39 | F28: =F27+D28-E28 -> 12726.51 | R28: =E28-S28 -> 81.32 | S28: =2.45+1.62 -> 4.07 | T28: =SUM(G28:S28) -> 85.39 | U28: 95f
A29: 44091 | B29: Office 365 Home (12/10/20–12/10/21) £79.99 | C29: 100762 | E29: 79.99 | F29: =F28+D29-E29 -> 12646.52 | O29: =E29-S29 -> 66.658333 | S29: =(79.99/1.2)*0.2 -> 13.331667 | T29: =SUM(G29:S29) -> 79.99 | U29: 40b
A30: 44091 | B30: The Info Commissioner: Data Protection renewal | C30: DD | E30: 35 | F30: =F29+D30-E30 -> 12611.52 | O30: =E30 -> 35 | T30: =SUM(G30:S30) -> 35 | U30: 40c | V30: * DD from 2016
A31: 44099 | B31: South Cambs DC: Direct Credit: Precept 20–21 C | C31: DC | D31: 2625 | F31: =F30+D31-E31 -> 15236.52 | G31: =-D31 -> -2625 | T31: =SUM(G31:S31) -> -2625 | U31: 95c
A32: 44102 | B32: Opus Energy Corpor | C32: DD | E32: =5.74+33.59 -> 39.33 | F32: =F31+D32-E32 -> 15197.19 | R32: =E32-S32 -> 37.46 | S32: =0.27+1.6 -> 1.87 | T32: =SUM(G32:S32) -> 39.33 | U32: 95g
A33: 44119 | B33: Victoire Prss Ltd: Skylark, Oct 2020 | C33: 100758 | E33: 69 | F33: =F32+D33-E33 -> 15128.19 | Q33: =E33 -> 69 | T33: =SUM(G33:S33) -> 69 | U33: 51a
A34: 44137 | B34: Opus Energy Corpor | C34: DD | E34: =5.55+34.86 -> 40.41 | F34: =F33+D34-E34 -> 15087.78 | R34: =E34-S34 -> 38.49 | S34: =0.26+1.66 -> 1.92 | T34: =SUM(G34:S34) -> 40.41 | U34: 95h
A35: 44154 | B35: Covid Community Grant, SCDC | C35: DC | D35: 100 | F35: =F34+D35-E35 -> 15187.78 | H35: -100 | T35: =SUM(G35:S35) -> -100 | U35: 62b
A36: 44165 | B36: Opus Energy Corpor | C36: DD | E36: =5.75+40.34 -> 46.09 | F36: =F35+D36-E36 -> 15141.69 | R36: =E36-S36 -> 43.9 | S36: =0.27+1.92 -> 2.19 | T36: =SUM(G36:S36) -> 46.09 | U36: 95i
A37: 44200 | B37: Opus Energy Corpor | C37: DD | E37: =5.63+42.84 -> 48.47 | F37: =F36+D37-E37 -> 15093.22 | R37: =E37-S37 -> 46.16 | S37: =0.27+2.04 -> 2.31 | T37: =SUM(G37:S37) -> 48.47 | U37: 95j
A38: 44217 | B38: Victoire Press Ltd: Skylark Jan 2021 | C38: 100759 | E38: 69 | F38: =F37+D38-E38 -> 15024.22 | Q38: =E38 -> 69 | T38: =SUM(G38:S38) -> 69 | U38: 84a
A39: 44217 | B39: Mr P. White: Battery recycling tube at VH | C39: 100760 | E39: 30.24 | F39: =F38+D39-E39 -> 14993.98 | R39: =E39 -> 30.24 | T39: =SUM(G39:S39) -> 30.24 | U39: 84b
A40: 44217 | B40: Michael Murden: bus shelter cleaning | C40: 100763 | E40: 125 | F40: =F39+D40-E40 -> 14868.98 | R40: =E40 -> 125 | T40: =SUM(G40:S40) -> 125 | U40: 84c
A41: 44217 | B41: HMRC: Income Tax | C41: 100764 | E41: 419 | F41: =F40+D41-E41 -> 14449.98 | K41: =E41 -> 419 | T41: =SUM(G41:S41) -> 419 | U41: 84e
...

Sheet VAT
A1: Longstowe Parish Council
A2: VAT return for 2019/21
E3: VAT Record: GB724594615
A4: Information needed: | E4: Company name on VAT Registration: | F4: MICROSOFT LIMITED
E5: VAT number: | F5: GB 724594615
A6: your Unique Reference Number - sent to you by HMRC if you’ve already claimed | E6: VAT ID: | F6: 724-594-615
A7: your registered organisation postcode | E7: Jurisdiction of VAT number: | F7: United Kindom (UK)
A8: the start and end dates for your VAT claim | E8: Issuing Authority of VAT number: | F8: HMRC (HM Revenue & Customs)
A9: a bank statement dated within the last 3 months from your claim to confirm your new address or bank account (if these have changed) | E9: VAT status: | F9: Valid VAT Number
A10: If you’re claiming a refund for up to 5 invoices, you’ll need to manually enter the following information for each invoice: | E10: Address on VAT Registration: | F10: FAO CAROLYN CHENEY
F11: MICROSOFT LIMITED
A12: the invoice date | F12: MICROSOFT CAMPUS
A13: the supplier’s VAT registration | F13: READING
A14: the VAT amount | F14: RG6 1WG
A15: the name of the organisation receiving goods or services on the invoice | E15: Period when VAT number issued: | F15: Issued before November 2009
A16: a brief description of goods or supplies | E16: Last checked by us: | F16: 2021-01-16
A18: If you’re claiming a refund for more than 5 invoices, you’ll need to upload one spreadsheet or document providing the details above for all invoices.
A21: Your claim must be for a period of at least one calendar month and must end on the last day of a calendar month.
A22: If you want to make a claim for less than £100, it must cover a period of at least 12 months.
A25: LPC Unique Reference Number | B25: XSV126000105983
A26: LPC registered Post Code | B26: CB23 2UB
A27: Start to end dates for claim | B27: 01/04/2019 to 31/03/2021
A28: Bank deails | B28: Barclays | C28: 20-17-19 | D28: 10588172 | E28: unchanged
B30: Invoice Date | C30: Supplier's VAT registration number | D30: Description of the goods or services supplied | E30: Receiving Organisation | F30: VAT Paid
A31: ebuyer | B31: 43739 | C31: 836592300 | D31: Lenovo Laptop and HP Envy Printer | E31: College of Animal Welfare on behalf of Longstowe Parish Council | F31: 72.5
A32: Microsoft | B32: 43750 | C32: GB724594615 | D32: Microsoft Office 365 Software | E32: Longstowe Parish Council via Clerk | F32: 13.33
A33: Microsoft | B33: 44091 | C33: GB724594615 | D33: Microsoft Office 365 Software | E33: Longstowe Parish Council via Clerk | F33: 13.33
A34: Opus Energy (Corporate) Ltd | B34: 44014 | C34: 818290029 | D34: Longstowe Village Street Lighting | E34: Longstowe Parish Council | F34: 3.01
A35: Opus Energy (Corporate) Ltd | B35: 44014 | C35: 818290029 | D35: Longstowe Village Street Lighting | E35: Longstowe Parish Council | F35: 4.49
A36: Opus Energy (Corporate) Ltd | B36: 44062 | C36: 818290029 | D36: Longstowe Village Street Lighting | E36: Longstowe Parish Council | F36: 2.45
A37: Opus Energy (Corporate) Ltd | B37: 44062 | C37: 818290029 | D37: Longstowe Village Street Lighting | E37: Longstowe Parish Council | F37: 1.62
A38: Opus Energy (Corporate) Ltd | B38: 44091 | C38: 818290029 | D38: Longstowe Village Street Lighting | E38: Longstowe Parish Council | F38: 0.27
A39: Opus Energy (Corporate) Ltd | B39: 44091 | C39: 818290029 | D39: Longstowe Village Street Lighting | E39: Longstowe Parish Council | F39: 1.6
A40: Opus Energy (Corporate) Ltd | B40: 44127 | C40: 818290029 | D40: Longstowe Village Street Lighting | E40: Longstowe Parish Council | F40: 0.26
A41: Opus Energy (Corporate) Ltd | B41: 44127 | C41: 818290029 | D41: Longstowe Village Street Lighting | E41: Longstowe Parish Council | F41: 1.66
A42: Opus Energy (Corporate) Ltd | B42: 44153 | C42: 818290029 | D42: Longstowe Village Street Lighting | E42: Longstowe Parish Council | F42: 0.27
... A51: Opus Energy (Corporate) Ltd | B51: 44272 | C51: 818290029 | D51: Longstowe Village Street Lighting | E51: Longstowe Parish Council | F51: 1.98
A53: TOTAL claimed | B53: 44286 | E53: Total | F53: =SUM(F31:F51) -> 126.44
E55: Payment received April 2021 | F55: 126.44

Sheet Assets
A1: Longstowe Parish Council: Asset List (do NOT write down)
A3: Year ended 31 March 2021
A5: Assets
B6: No assets were purchased or disposed of during the year
C7: Date of purchase | D7: Original Cost
B8: Assets held were: | D8: £
B9: Play Equipment – Village Hall | C9: 2010 | D9: 28820
B10: Bus Shelter on the High Street | D10: 4521
B11: Bus Shelter on the A1198 | C11: 2011 | D11: 815
B12: Village Sign | C12: 1999 | D12: 3102
B13: Three Notice Boards | D13: 1417
B14: Village Seat | D14: 561
B15: Two new Notice Boards | C15: 2015 | D15: 1011.6
B16: Computer | C16: 2019 | D16: 316.63
B17: Scanner / Printer | C17: 2019 | D17: 45.82
B19: Total | E19: =SUM(D9:D17) -> 40610.05
A21: Borrowings
B22: There are no loans outstanding
A24: Leases
B25: The Council has no leases
A27: Debts outstanding
B28: At 31 March 2021 debts outstanding to the council were | D28: =169.44 -> 169.44
B29: VAT reclaimable for the period 1 April 2019 to 31 March 2021 | D29: =85.83+'Cash Book 2020-21'!S60 -> 126.44167
A31: Tenancies
B32: The Council has no tenancy agreements
A34: Section 137 Payments
B35: The Council made no payments under S.137 | D35: Nil
A37: Agency Work
B38: The Council undertook no agency work on behalf of authorities
A40: Advertising and Publicity Costs | D40: Nil
A43: Pension Contributions | D43: Nil

Sheet Bank Reconciliation
A1: Longstowe Parish Council: Bank Reconciliation
A3: Year ended 31 March 2021
A5: Prepared by Bobbie Coe, Assistant Clerk & RFO
A6: Date: April 2021
A8: Balance per bank statements as at 31 March 2021 | C8: £ | D8: £
B9: Current account | C9: 14304.12
B10: Deposit account | C10: 4713.85
D11: =C9+C10 -> 19017.97
A12: Petty cash float: no petty cash held | D12: 0
A14: Less: unpresented cheques at 31 March 2021
A16: 100765 : Clerk: salary + expenses (£70) | B16: 1746.5
A17: 100766 : SLCC (Society of Local Council Clerks) | B17: 103
A18: 100768 : Bobbie Coe | B18: 629.63
A19: 100769 : HMRC: Income Tax | B19: 154
A20: 100767 : Victoire Press Ltd: Skylark March 2021 | B20: 69
D21: =-SUM(B15:B21) -> -2702.13
A24: Add: any un-banked cash at 31 March 2021 | C24: 0 | D24: 0
A26: Net balances as at 31 March 2021 | D26: =SUM(D9:D25) -> 16315.84
A28: The net balances reconcile to the Cash Book (receipts and payments account) for the year, as follows:
A30: CASH BOOK:
A31: Opening Balances 1 April 2020
B32: Current account | C32: ='Cash Book 2020-21'!F15 -> 11746.49
B33: Deposit account | C33: ='Cash Book 2020-21'!F55 -> 4711.69
D34: =C32+C33 -> 16458.18
A36: Add: Receipts in the year | D36: ='Cash Book 2020-21'!D60 -> 5362.16
A37: Less: Payments in the year | D37: =-'Cash Book 2020-21'!E60 -> -5504.5
A39: Closing balance per cash book as at 31 March 2021 | D39: =SUM(D31:D37) -> 16315.84

Sheet Variances
A1: Explanation of variances – pro forma
A2: Name of smaller authority: | C2: Longstowe Parish Council
A3: County area (local councils and parish meetings only): | C3: South Cambridgeshire
A4: Insert figures from Section 2 of the AGAR in all Blue highlighted boxes
A5: Next, please provide full explanations, including numerical values, for the following that will be flagged in the green boxes where relevant: • variances of more than 15% between totals for individual boxes (except variances of less than £200); • New from 2020/21: variances of £100,000 or more require explanation regardless of the % variation year on year; • a breakdown of approved reserves on the next tab if the total reserves (Box 7) figure is more than twice the annual precept/rates & levies value (Box 2).
D8: 2019/20 | F8: 2020/21 | G8: Variance | H8: Variance | L8: Explanation Required? | M8: Automatic responses trigger below based on figures input, DO NOT OVERWRITE THESE BOXES | N8: Explanation from smaller authority (must include narrative and supporting figures)
D9: £ | F9: £ | G9: £ | H9: %
A11: 1 Balances Brought Forward | D11: 10764 | F11: ='Cash Book 2020-21'!F15+'Cash Book 2020-21'!F55 -> 16458.18 | M11: =IF(F11=D23,"Explanation of % variance from PY opening balance not required - Balance brought forward agrees","Explanation of % variance from PY opening balance not required - Balance brought forward does not agree, query this") -> Explanation of % variance from PY opening balance not required - Balance brought forward does not agree, query this
A13: 2 Precept or Rates and Levies | D13: 5250 | F13: ='Cash Book 2020-21'!D17+'Cash Book 2020-21'!D18+'Cash Book 2020-21'!D31 -> 5250 | G13: =F13-D13 -> 0 | H13: =IF((D13>F13),(D13-F13)/D13,IF(D13<F13,-(D13-F13)/D13,IF(D13=F13,0))) -> 0 | I13: =IF(D13-F13<200,0,IF(D13-F13>200,1,IF(D13-F13=200,1))) -> 0 | J13: =IF(F13-D13<200,0,IF(F13-D13>200,1,IF(F13-D13=200,1))) -> 0 | K13: =IF(H13<0.15,0,IF(H13>0.15,1,IF(H13=0.15,1))) -> 0 | L13: =IF((H13<15%)*AND(G13<100000), "NO","YES") -> NO | M13: =IF((L13="YES")*AND(I13+J13<1),"Explanation not required, difference less than £200"," ")
A15: 3 Total Other Receipts | D15: 8522 | F15: ='Cash Book 2020-21'!D35+'Cash Book 2020-21'!D43+'Cash Book 2020-21'!D56+'Cash Book 2020-21'!D57+'Cash Book 2020-21'!D58+'Cash Book 2020-21'!D59 -> 112.16 | G15: =F15-D15 -> -8409.84 | H15: =IF((D15>F15),(D15-F15)/D15,IF(D15<F15,-(D15-F15)/D15,IF(D15=F15,0))) -> 0.98683877 | I15: =IF(D15-F15<200,0,IF(D15-F15>200,1,IF(D15-F15=200,1))) -> 1 | J15: =IF(F15-D15<200,0,IF(F15-D15>200,1,IF(F15-D15=200,1))) -> 0 | K15: =IF(H15<0.15,0,IF(H15>0.15,1,IF(H15=0.15,1))) -> 1 | L15: =IF((H15<15%)*AND(G15<100000), "NO","YES") -> YES | N15: £8333.89 received in 2019/20 is an endowment fund and is ring-fenced.
A17: 4 Staff Costs | D17: 4482 | F17: ='Cash Book 2020-21'!K60+'Cash Book 2020-21'!L60+'Cash Book 2020-21'!M60 -> 2873.77 | G17: =F17-D17 -> -1608.23 | H17: =IF((D17>F17),(D17-F17)/D17,IF(D17<F17,-(D17-F17)/D17,IF(D17=F17,0))) -> 0.35881972 | I17: =IF(D17-F17<200,0,IF(D17-F17>200,1,IF(D17-F17=200,1))) -> 1 | J17: =IF(F17-D17<200,0,IF(F17-D17>200,1,IF(F17-D17=200,1))) -> 0 | K17: =IF(H17<0.15,0,IF(H17>0.15,1,IF(H17=0.15,1))) -> 1 | L17: =IF((H17<15%)*AND(G17<100000), "NO","YES") -> YES | M17: =IF((L17="YES")*AND(I17+J17<1),"Explanation not required, difference less than £200"," ") | N17: Clerk's payment of £969 not paid
A19: 5 Loan Interest/Capital Repayment | D19: 0 | F19: 0 | G19: =F19-D19 -> 0 | H19: =IF((D19>F19),(D19-F19)/D19,IF(D19<F19,-(D19-F19)/D19,IF(D19=F19,0))) -> 0 | I19: =IF(D19-F19<200,0,IF(D19-F19>200,1,IF(D19-F19=200,1))) -> 0 | J19: =IF(F19-D19<200,0,IF(F19-D19>200,1,IF(F19-D19=200,1))) -> 0 | K19: =IF(H19<0.15,0,IF(H19>0.15,1,IF(H19=0.15,1))) -> 0 | L19: =IF((H19<15%)*AND(G19<100000), "NO","YES") -> NO | M19: =IF((L19="YES")*AND(I19+J19<1),"Explanation not required, difference less than £200"," ")
A21: 6 All Other Payments | D21: 3596 | F21: ='Cash Book 2020-21'!N60+'Cash Book 2020-21'!O60+'Cash Book 2020-21'!P60+'Cash Book 2020-21'!Q60+'Cash Book 2020-21'!R60+'Cash Book 2020-21'!S60 -> 2630.73 | G21: =F21-D21 -> -965.27 | H21: =IF((D21>F21),(D21-F21)/D21,IF(D21<F21,-(D21-F21)/D21,IF(D21=F21,0))) -> 0.26842881 | I21: =IF(D21-F21<200,0,IF(D21-F21>200,1,IF(D21-F21=200,1))) -> 1 | J21: =IF(F21-D21<200,0,IF(F21-D21>200,1,IF(F21-D21=200,1))) -> 0 | K21: =IF(H21<0.15,0,IF(H21>0.15,1,IF(H21=0.15,1))) -> 1 | L21: =IF((H21<15%)*AND(G21<100000), "NO","YES") -> YES | N21: computer £435 and web site £670 purchased 2019/2020
A23: 7 Balances Carried Forward | D23: =D11+D13+D15-D17-D19-D21 -> 16458 | F23: =F11+F13+F15-F17-F19-F21 -> 16315.84 | M23: VARIANCE EXPLANATION NOT REQUIRED
L24: =IF(F23>(2*F13),"YES","NO") -> YES
A26: 8 Total Cash and Short Term Investments | D26: 16458 | F26: ='Cash Book 2020-21'!F51+'Cash Book 2020-21'!F59 -> 16315.84 | M26: VARIANCE EXPLANATION NOT REQUIRED
A28: 9 Total Fixed Assets plus Other Long Term Investments and Assets | D28: 40610 | F28: 40610 | G28: =F28-D28 -> 0 | H28: =IF((D28>F28),(D28-F28)/D28,IF(D28<F28,-(D28-F28)/D28,IF(D28=F28,0))) -> 0 | I28: =IF(D28-F28<200,0,IF(D28-F28>200,1,IF(D28-F28=200,1))) -> 0 | J28: =IF(F28-D28<200,0,IF(F28-D28>200,1,IF(F28-D28=200,1))) -> 0 | K28: =IF(H28<0.15,0,IF(H28>0.15,1,IF(H28=0.15,1))) -> 0 | L28: =IF((H28<15%)*AND(G28<100000), "NO","YES") -> NO | M28: =IF((L28="YES")*AND(I28+J28<1),"Explanation not required, difference less than £200"," ")
A30: 10 Total Borrowings | D30: 0 | F30: 0 | G30: =F30-D30 -> 0 | H30: =IF((D30>F30),(D30-F30)/D30,IF(D30<F30,-(D30-F30)/D30,IF(D30=F30,0))) -> 0 | I30: =IF(D30-F30<100,0,IF(D30-F30>100,1,IF(D30-F30=100,1))) -> 0 | J30: =IF(F30-D30<100,0,IF(F30-D30>100,1,IF(F30-D30=100,1))) -> 0 | K30: =IF(H30<0.15,0,IF(H30>0.15,1,IF(H30=0.15,1))) -> 0 | L30: =IF((H30<15%)*AND(G30<100000), "NO","YES") -> NO | M30: =IF((L30="YES")*AND(I30+J30<1),"Explanation not required, difference less than £200"," ")
C32: Rounding errors of up to £2 are tolerable
C34: Variances of £200 or less are tolerable
C36: BOX 10 VARIANCE EXPLANATION NOT REQUIRED IF CHANGE CAN BE EXPLAINED BY BOX 5 (CAPITAL PLUS INTEREST PAYMENT)

Sheet Variances explained
A1: Explanation for ‘high’ reserves
A2: (Please complete the highlighted boxes.)
A3: Box 7 is more than twice Box 2 because the authority held the following breakdown of reserves at the year end:
D5: £ | E5: £ | F5: £
A6: Earmarked reserves:
B7: Reserve 1 | D7: 8334 | G7: Endowment Fund (from the former Reading Room Trust)
B8: Reserve 2 | D8: 385 | G8: Transparancy Fund (Internet + Software)
B9: Reserve 3 | D9: 87 | G9: Transparancy Fund (Computer)
B10: Reserve 4 | D10: 930 | G10: Speed Limit Fund
B11: Reserve 5 | D11: 2245 | G11: S106 (open space)
B12: Reserve 6 | D12: 371 | G12: S106 (community space)
B13: Reserve 7
E14: =SUM(D7:D13) -> 12352
A16: General reserve | D16: ='Cash Book 2020-21'!F60-'Variances explained'!E14 -> 3963.84
E17: =D16 -> 3963.84
A18: Total reserves (must agree to Box 7) | F18: =E14+E17 -> 16315.84

Sheet Open Meeting Summary
A1: Longstowe Parish Council
A2: Summary for year 1 April 2020 to 31 March 2021
A3: Bank Balances brought forward | B3: ='Cash Book 2020-21'!F15+'Cash Book 2020-21'!F55 -> 16458.18
A4: PRECEPT | B4: =-'Cash Book 2020-21'!G60 -> 5250
A5: Bank Interest | B5: ='Cash Book 2020-21'!D56+'Cash Book 2020-21'!D57+'Cash Book 2020-21'!D58+'Cash Book 2020-21'!D59 -> 2.16
A6: Other income | B6: =-'Cash Book 2020-21'!H60-B5 -> 110 | C6: Covid Grant, BT
A7: Transparancy Grants | B7: 0
A8: Less:
A9: Clerk's salary + exps | B9: ='Cash Book 2020-21'!K60+'Cash Book 2020-21'!L60 -> 2701.97
A10: Training | B10: ='Cash Book 2020-21'!M60 -> 171.8 | C10: From Web grant
A11: Admin | B11: ='Cash Book 2020-21'!N60 -> 75.36
A12: Fees | B12: ='Cash Book 2020-21'!O60 -> 775.87833 | C12: £670 from grant
A13: Insurance | B13: ='Cash Book 2020-21'!P60 -> 338.88
A14: Skylark | B14: ='Cash Book 2020-21'!Q60 -> 276
A15: Village Maintenance | B15: ='Cash Book 2020-21'!R60 -> 1124
A16: VAT | B16: ='Cash Book 2020-21'!S60 -> 40.611667 | C16: Not yet reclaimed
A18: Bank Balances carried forward | B18: =(SUM(B3:B7)-(SUM(B9:B16))) -> 16315.84
A37: We are required to keep the following available:
A38: Reserve | B38: 4000 | C38: One year's Precept
A39: S106 payment | B39: 2615.9 | C39: 28/10/2013
A40: Speed Limit in hand | B40: =(6*120)+60+100+50 -> 930 | C40: 6 x £120 + £60 + £100 + £50
A41: Transparancy Fund (remainder) | B41: ='Variances explained'!D9 -> 87 | C41: Computer + Scanner
A42: Transparancy Fund (remainder) | B42: ='Variances explained'!D8 -> 385 | C42: Internet + Software
A43: Transparancy Fund (remainder) | B43: 0 | C43: Web site
A44: SpeedWatch Grant | B44: 0
A45: Reading Room (Trust) funds | B45: ='Variances explained'!D7 -> 8334 | C45: Must be kept separately
A46: TOTAL in hand | B46: =SUM(B38:B45) -> 16351.9
A48: Leaving BALANCE of | B48: =B18-B46 -> -36.06
A50: PRECEPT set for 2010–2011 | B50: 4200
A51: PRECEPT set for 2011–2012 | B51: 4200
A52: PRECEPT set for 2012–2013 | B52: 4550 | C52: Includes election costs of £750
A53: PRECEPT set for 2013–2014 | B53: 3050
A54: PRECEPT set for 2014–2015 | B54: 4000
A55: PRECEPT set for 2015–2016 | B55: 4000
A56: PRECEPT set for 2016–2017 | B56: 5000 | C56: includes election costs of £1,000
A57: PRECEPT set for 2017–2018 | B57: 4500
A58: PRECEPT set for 2018–2019 | B58: 5250 | C58: must include election cost budget of £1,000+
A59: PRECEPT set for 2019–2020 | B59: 5250
A60: PRECEPT set for 2020–2021 | B60: 5250
A61: PRECEPT set for 2021–2022 | B61: 5250

Sheet Precept
A1: Longstowe Parish Council: Precept
A3: PRECEPT set for 2010–2011 | B3: 4200
A4: PRECEPT set for 2011–2012 | B4: 4200
A5: PRECEPT set for 2012–2013 | B5: 4550 | C5: Includes election costs of £750
A6: Less Election costs: | B6: -750
A7: Less Election costs refunded: | B7: -750
A8: PRECEPT set for 2013–2014: | B8: =+B5+B6+B7 -> 3050
A9: PRECEPT set for 2014–2015: | B9: 4000
A10: PRECEPT set for 2015–2016 | B10: 4000
A11: PRECEPT set for 2016–2017 | B11: 5000 | C11: includes election costs of £1,000 (not used)
A12: PRECEPT set for 2017–2018 | B12: 4500
A13: PRECEPT set for 2018–2019 | B13: 5250 | C13: includes election costs of £1,000 (not used)
A15: Assuming Election costs of £1,000 should be added to the reserve over time, I recommend that the PRECEPT for the next year remains at the same level, £5,250. Assuming we slightly underspend each year, and don't have an election, we should be able to maintain this level for some years. We must be aware that the Government is still considering capping Parish Councils' increases in the same way that District and County Councils have been capped.
A17: PRECEPT set for 2019–2020 | B17: 5250
A18: PRECEPT set for 2020–2021 | B18: 5250
A19: PRECEPT set for 2021–2022 | B19: 5250

Sheet Year-on-year
A1: Longstowe Parish Council: Accounting Statements
A3: Year ended 31 March 2021
B5: Section 1 – Accounting statements 2019/2020 for Longstowe Parish Council
C7: 31 March 2012 | D7: 31 March 2013 | E7: 31 March 2014 | F7: 31 March 2015 | G7: 31 March 2016 | H7: 31 March 2017 | I7: 31 March 2018 | J7: 31 March 2019 | K7: 31 March 2020 | L7: 31 March 2021
C8: £ | D8: £ | E8: £ | F8: £ | G8: £ | H8: £ | I8: £ | J8: £ | K8: £ | L8: £
A9: 1 | B9: Balances brought forward | C9: 1731.94 | D9: 1927.25 | E9: 3136.19 | F9: 4945.81 | G9: 6745.19 | H9: 6721.26 | I9: 8123 | J9: 10275 | K9: 10763.85 | L9: =Variances!F11 -> 16458.18
A10: 2 | B10: (+) Annual precept | C10: 4200 | D10: 4550 | E10: 3050 | F10: 4000 | G10: 4000 | H10: 5000 | I10: 4500 | J10: 5250 | K10: 5250 | L10: =Variances!F13 -> 5250
A11: 3 | B11: (+) Total other receipts | C11: 79.93 | D11: 372.78 | E11: 2813.14 | F11: 2037.29 | G11: 818.91 | H11: 595.13 | I11: 2543 | J11: 347 | K11: 8522.03 | L11: =Variances!F15 -> 112.16
A12: 4 | B12: (-) Staff costs | C12: -1293.32 | D12: -1507.64 | E12: -2320.63 | F12: -2175.26 | G12: -2081.34 | H12: -2177.77 | I12: -3281 | J12: -3309 | K12: -4481.74 | L12: =-Variances!F17 -> -2873.77
A13: 5 | B13: (-) Loan interest/capital repayments | C13: Nil | D13: Nil | E13: Nil | F13: Nil | G13: Nil | H13: Nil | I13: Nil | J13: Nil | K13: Nil | L13: Nil
A14: 6 | B14: (-) All other payments | C14: -2791.3 | D14: -2206.2 | E14: -1732.89 | F14: -2062.65 | G14: -2761.5 | H14: -2016.09 | I14: -1609 | J14: -1799 | K14: -3595.96 | L14: =-Variances!F21 -> -2630.73
A15: 7 | B15: (=) Balances carried forward | C15: 1927.25 | D15: 3136.19 | E15: 4945.81 | F15: 6745.19 | G15: 6721.26 | H15: 8122.53 | I15: 10275 | J15: 10764 | K15: 16458.18 | L15: =Variances!F23 -> 16315.84
A16: 8 | B16: Total cash and short term investments | C16: 1927.25 | D16: 3136.19 | E16: 4945.81 | F16: 6745.19 | G16: 6721.26 | H16: 8122.53 | I16: 10275 | J16: 10764 | K16: 16458.18 | L16: =Variances!F26 -> 16315.84
A17: 9 | B17: Total fixed assets plus other long term investments and assets | C17: 39236 | D17: 39236 | E17: 39236 | F17: 39236 | G17: 40247.6 | H17: 40247.6 | I17: 40248 | J17: 40248 | K17: 40610.05 | L17: =Variances!F28 -> 40610
A18: 10 | B18: Total borrowings | C18: Nil | D18: Nil | E18: Nil | F18: Nil | G18: Nil | H18: Nil | I18: Nil | J18: Nil | K18: Nil | L18: Nil
A19: 11 | B19: (If Applicable) Trust funds (including charitable) discolsure note | C19: Nil | D19: Nil | E19: Nil | F19: Nil | G19: Nil | H19: Nil | I19: Nil | J19: Nil | K19: Nil | L19: Nil
L22: * Staff costs incomplete

Sheet Grants
A1: Longstowe Parish Council 2020–2021
A3: Grants and other funds | D3: 2019-2020 | E3: 2020-2021 | F3: C/F
C4: £ | D4: Less £ | E4: Less £
B5: Reserve | C5: 4000 | F5: =C5-D5-E5 -> 4000 | H5: This should be the Precept for one year
B6: FROM: Reading Room Trust Fund | C6: 8333.89 | F6: =C6-D6-E6 -> 8333.89 | H6: These must be kept in a special account: only the interest can be used where other PC funds are not available
A8: 41575 | B8: S106_1 | C8: 2244.9 | D8: 0 | E8: 0 | F8: =C8-D8-E8 -> 2244.9 | H8: Open space | I8: both S106 payments may be used for a disabled toilet (see e-mails)
A9: 41575 | B9: S106_2 | C9: 371 | D9: 0 | E9: 0 | F9: =C9-D9-E9 -> 371 | H9: Community space
A11: 42431 | B11: Transparancy Fund | C11: 449 | D11: 362.45 | F11: =C11-D11-E11 -> 86.55 | H11: Computer + scanner | N11: (reclaim VAT of 72.50)
A12: 42928 | B12: Transparancy Fund | C12: 579.95 | D12: =J12+K12 -> 127.79 | E12: =L12 -> 66.66 | F12: =C12-D12-E12 -> 385.5 | H12: Internet + software | I12: Less: | J12: 61.13 | K12: 66.66 | L12: 66.66 | M12: Charge to Grant | N12: (reclaim VAT of 13.33+13.33)
A13: 43140 | B13: Transparancy Fund | C13: 1632.52 | D13: =J13+K13 -> 1460.72 | E13: =L13 -> 171.8 | F13: =C13-D13-E13 -> 0 | H13: Web site & Training | I13: Less: | J13: 790.72 | K13: 670 | L13: 171.8 | M13: Charge to Grant
A15: 43190 | B15: Speed Limit in hand | C15: =((6*120)+60+100+50) -> 930 | D15: 0 | E15: 0 | F15: =C15-D15-E15 -> 930 | H15: 6 x £120 + £60 + £100 + £50 | J15: 2012/13 to 2017/18
B17: SpeedWatch Grant | H17: Not yet received
B19: Totals | C19: =SUM(C5:C18) -> 18541.26 | D19: =SUM(D5:D18) -> 1950.96 | E19: =SUM(E5:E18) -> 238.46 | F19: =SUM(F5:F18) -> 16351.84
B21: TOTAL | D21: =C19-D19 -> 16590.3 | E21: =D21-E19 -> 16351.84
